BEGIN:VCALENDAR
VERSION:2.0
PRODID:-//Bufalabala - ECPv6.15.8//NONSGML v1.0//EN
CALSCALE:GREGORIAN
METHOD:PUBLISH
X-WR-CALNAME:Bufalabala
X-ORIGINAL-URL:https://bufalabala.com
X-WR-CALDESC:Eventos para Bufalabala
REFRESH-INTERVAL;VALUE=DURATION:PT1H
X-Robots-Tag:noindex
X-PUBLISHED-TTL:PT1H
BEGIN:VTIMEZONE
TZID:Europe/Madrid
BEGIN:DAYLIGHT
TZOFFSETFROM:+0100
TZOFFSETTO:+0200
TZNAME:CEST
DTSTART:20250330T010000
END:DAYLIGHT
BEGIN:STANDARD
TZOFFSETFROM:+0200
TZOFFSETTO:+0100
TZNAME:CET
DTSTART:20251026T010000
END:STANDARD
BEGIN:DAYLIGHT
TZOFFSETFROM:+0100
TZOFFSETTO:+0200
TZNAME:CEST
DTSTART:20260329T010000
END:DAYLIGHT
BEGIN:STANDARD
TZOFFSETFROM:+0200
TZOFFSETTO:+0100
TZNAME:CET
DTSTART:20261025T010000
END:STANDARD
BEGIN:DAYLIGHT
TZOFFSETFROM:+0100
TZOFFSETTO:+0200
TZNAME:CEST
DTSTART:20270328T010000
END:DAYLIGHT
BEGIN:STANDARD
TZOFFSETFROM:+0200
TZOFFSETTO:+0100
TZNAME:CET
DTSTART:20271031T010000
END:STANDARD
END:VTIMEZONE
BEGIN:VEVENT
DTSTART;TZID=Europe/Madrid:20260418T180000
DTEND;TZID=Europe/Madrid:20260418T220000
DTSTAMP:20260419T180158
CREATED:20260409T141633Z
LAST-MODIFIED:20260409T145752Z
UID:1485-1776535200-1776549600@bufalabala.com
SUMMARY:NEOVERBENEO // LA FIESTA
DESCRIPTION:Una fiesta de cinco horas con actuaciones djs\, karaoke\, música en directos\, sorteos\, partidas de cartas\, bingo y muchísimas diversión\, una auténtica fiesta de pueblo en tu sala favorita de Alicante. \nIncluye consumición de 1 copa o 2 cervezas.
URL:https://bufalabala.com/evento/neoverbeneo-la-fiesta-2/
LOCATION:Sala Stereo\, C/ Pintor Velázquez\, 5\, Alicante\, Alicante\, 03004\, Spain
ATTACH;FMTTYPE=image/jpeg:https://bufalabala.com/wp-content/uploads/2026/02/797b06af632760fa248a7981ba298369.jpg
END:VEVENT
BEGIN:VEVENT
DTSTART;TZID=Europe/Madrid:20260418T213000
DTEND;TZID=Europe/Madrid:20260418T233000
DTSTAMP:20260419T180158
CREATED:20260216T092702Z
LAST-MODIFIED:20260216T092717Z
UID:1014-1776547800-1776555000@bufalabala.com
SUMMARY:Concierto Carey - Sant Joan d'Alacant
DESCRIPTION:Carey inicia la gira de presentación de los primeros singles de su nuevo disco\, en una serie de conciertos por las principales ciudades españolas antes de encarar de nuevo la parte latinoamericana de su gira\, anticipando  el álbum que presentarán en otoño de este mismo año. \n\nCompra tus entradas en salaeuterpe.com
URL:https://bufalabala.com/evento/concierto-carey/
LOCATION:Sala Euterpe\, Bajo\, Carrer Dr. Ivorra\, 34\, Sant Joan d'Alacant\, Alicante\, 03550\, Spain
CATEGORIES:Carey Gira Primavera 2026
ATTACH;FMTTYPE=image/jpeg:https://bufalabala.com/wp-content/uploads/2026/02/carey-conciertos.jpg
END:VEVENT
END:VCALENDAR