BEGIN:VCALENDAR
VERSION:2.0
PRODID:-//Bufalabala - ECPv6.15.8//NONSGML v1.0//EN
CALSCALE:GREGORIAN
METHOD:PUBLISH
X-WR-CALNAME:Bufalabala
X-ORIGINAL-URL:https://bufalabala.com
X-WR-CALDESC:Eventos para Bufalabala
REFRESH-INTERVAL;VALUE=DURATION:PT1H
X-Robots-Tag:noindex
X-PUBLISHED-TTL:PT1H
BEGIN:VTIMEZONE
TZID:Europe/Madrid
BEGIN:DAYLIGHT
TZOFFSETFROM:+0100
TZOFFSETTO:+0200
TZNAME:CEST
DTSTART:20250330T010000
END:DAYLIGHT
BEGIN:STANDARD
TZOFFSETFROM:+0200
TZOFFSETTO:+0100
TZNAME:CET
DTSTART:20251026T010000
END:STANDARD
BEGIN:DAYLIGHT
TZOFFSETFROM:+0100
TZOFFSETTO:+0200
TZNAME:CEST
DTSTART:20260329T010000
END:DAYLIGHT
BEGIN:STANDARD
TZOFFSETFROM:+0200
TZOFFSETTO:+0100
TZNAME:CET
DTSTART:20261025T010000
END:STANDARD
BEGIN:DAYLIGHT
TZOFFSETFROM:+0100
TZOFFSETTO:+0200
TZNAME:CEST
DTSTART:20270328T010000
END:DAYLIGHT
BEGIN:STANDARD
TZOFFSETFROM:+0200
TZOFFSETTO:+0100
TZNAME:CET
DTSTART:20271031T010000
END:STANDARD
END:VTIMEZONE
BEGIN:VEVENT
DTSTART;TZID=Europe/Madrid:20260307T180000
DTEND;TZID=Europe/Madrid:20260307T233000
DTSTAMP:20260419T173344
CREATED:20260216T112048Z
LAST-MODIFIED:20260216T112127Z
UID:1060-1772906400-1772926200@bufalabala.com
SUMMARY:NEOVERBENEO - La Fiesta
DESCRIPTION:Una fiesta de cinco horas con actuaciones djs\, karaoke\, música en directos\, sorteos\, partidas de cartas\, bingo y muchísimas diversión\, una auténtica fiesta de pueblo en tu sala favorita de Alicante. \nIncluye consumición de 1 copa o 2 cervezas. \nEntradas disponibles en Compralaentrada.com
URL:https://bufalabala.com/evento/neoverbeneo-la-fiesta/
LOCATION:Sala Stereo\, C/ Pintor Velázquez\, 5\, Alicante\, Alicante\, 03004\, Spain
ATTACH;FMTTYPE=image/jpeg:https://bufalabala.com/wp-content/uploads/2026/02/797b06af632760fa248a7981ba298369.jpg
END:VEVENT
BEGIN:VEVENT
DTSTART;TZID=Europe/Madrid:20260321T193000
DTEND;TZID=Europe/Madrid:20260321T233000
DTSTAMP:20260419T173344
CREATED:20260216T091537Z
LAST-MODIFIED:20260216T091540Z
UID:1010-1774121400-1774135800@bufalabala.com
SUMMARY:Concierto Carey - Valencia
DESCRIPTION:Valencia – Canciones Nuevas\nCarey inicia la gira de presentación de los primeros singles de su nuevo disco\, en una serie de conciertos por las principales ciudades españolas antes de encarar de nuevo la parte latinoamericana de su gira\, anticipando  el álbum que presentarán en otoño de este mismo año. \n\nCompra tus entradas en Compralaentrada.com
URL:https://bufalabala.com/evento/concierto-carey-valencia/
LOCATION:Sala Volander\, Calle del Poeta\, Carrer Navarro Cabanes\, 25\, L'Olivereta\, Valencia\, Valencia\, 46018\, Spain
CATEGORIES:Carey Gira Primavera 2026
ATTACH;FMTTYPE=image/jpeg:https://bufalabala.com/wp-content/uploads/2026/02/89a566b6c8b134a9bb71e98dc59ebebe.jpg
END:VEVENT
BEGIN:VEVENT
DTSTART;TZID=Europe/Madrid:20260327T220000
DTEND;TZID=Europe/Madrid:20260327T233000
DTSTAMP:20260419T173344
CREATED:20260216T091753Z
LAST-MODIFIED:20260216T092008Z
UID:1011-1774648800-1774654200@bufalabala.com
SUMMARY:Concierto Carey - Elche/Elx
DESCRIPTION:Carey inicia la gira de presentación de los primeros singles de su nuevo disco\, en una serie de conciertos por las principales ciudades españolas antes de encarar de nuevo la parte latinoamericana de su gira\, anticipando  el álbum que presentarán en otoño de este mismo año. \n\nCompra tus entradas en ticketandroll.com
URL:https://bufalabala.com/evento/concierto-carey-elche-elx/
LOCATION:El Refugio del Poeta\, Carrer Poeta Miguel Hernandez\, 73\, Elche\, Alicante\, 03201\, Spain
CATEGORIES:Carey Gira Primavera 2026
ATTACH;FMTTYPE=image/jpeg:https://bufalabala.com/wp-content/uploads/2026/02/carey-conciertos.jpg
END:VEVENT
BEGIN:VEVENT
DTSTART;TZID=Europe/Madrid:20260328T200000
DTEND;TZID=Europe/Madrid:20260328T233000
DTSTAMP:20260419T173344
CREATED:20260116T172923Z
LAST-MODIFIED:20260226T091541Z
UID:907-1774728000-1774740600@bufalabala.com
SUMMARY:Concierto Bicicleta - La Gramola
DESCRIPTION:
URL:https://bufalabala.com/evento/concierto-bicicleta-la-gramola/
LOCATION:La Gramola\, C. Valencia\, 21\, Orihuela\, Alicante\, 03300\, Spain
ATTACH;FMTTYPE=image/png:https://bufalabala.com/wp-content/uploads/2025/11/3405658d42f8ca0d8d05bebbf7c2d0d2.png
END:VEVENT
END:VCALENDAR